BEGIN:VCALENDAR
VERSION:2.0
PRODID:-//ChamberMaster//Event Calendar 2.0//EN
METHOD:PUBLISH
X-PUBLISHED-TTL:P3D
REFRESH-INTERVAL:P3D
CALSCALE:GREGORIAN
BEGIN:VEVENT
DTSTART:20250313T190000Z
DTEND:20250313T230000Z
X-MICROSOFT-CDO-ALLDAYEVENT:FALSE
SUMMARY:Ribbon Cutting - Sunrise Therapy
DESCRIPTION:Sunrise Therapy is thrilled to welcome you to their Ribbon Cutting on March 13 @ 2:00pm - 6:00pm\n\nRibbon Cutting @ 3:00pm
X-ALT-DESC;FMTTYPE=text/html:<p dir="ltr" style="line-height:1.38\;margin-top:0pt\;margin-bottom:0pt\;"><span style="font-size:16px\;">Sunrise Therapy is thrilled to welcome you to their Ribbon Cutting on March 13 @ 2:00pm - 6:00pm<br />\n<span style="font-size:18px\;">Ribbon Cutting @ 3:00pm</span></span></p>\n
LOCATION:610 E Longview Dr\, Appleton
UID:e.2456.4677
SEQUENCE:3
DTSTAMP:20260426T000555Z
URL:http://hotvdev.chambermaster.com/events/details/ribbon-cutting-sunrise-therapy-4677
END:VEVENT

END:VCALENDAR
