BEGIN:VCALENDAR
VERSION:2.0
PRODID:-//ChamberMaster//Event Calendar 2.0//EN
METHOD:PUBLISH
X-PUBLISHED-TTL:P3D
REFRESH-INTERVAL:P3D
CALSCALE:GREGORIAN
BEGIN:VEVENT
DTSTART:20231005T223000Z
DTEND:20231006T030000Z
X-MICROSOFT-CDO-ALLDAYEVENT:FALSE
SUMMARY:Dream BIG Gala
DESCRIPTION:Big Brothers Big Sisters of East Central Wisconsin will be hosting their Dream BIG Gala fundraising event on Thursday\, October 5\, 2023\, at the Bridgewood Resort Hotel and Conference Center in Neenah\, WI. The evening will feature the Bigs of the Year awards\, live and silent auctions\, entertainment\, and a delectable meal. Proceeds go to providing children facing adversity with strong and engaging\, professionally supported one-to-one relationships. Big Brothers Big Sisters helps youth realize and harness their potential by providing life-changing opportunities through community\, school\, and club mentoring programs.
X-ALT-DESC;FMTTYPE=text/html:Big Brothers Big Sisters of East Central Wisconsin will be hosting their Dream BIG Gala fundraising event on Thursday\, October 5\, 2023\, at the Bridgewood Resort Hotel and Conference Center in Neenah\, WI. The evening will feature the Bigs of the Year awards\, live and silent auctions\, entertainment\, and a delectable meal. Proceeds go to providing children facing adversity with strong and engaging\, professionally supported one-to-one relationships. Big Brothers Big Sisters helps youth realize and harness their potential by providing life-changing opportunities through community\, school\, and club mentoring programs.
LOCATION:Bridgewood Resort Hotel and Conference Center 1000 Cameron Way Neenah\, WI 54956
UID:e.2456.4162
SEQUENCE:3
DTSTAMP:20260421T222532Z
URL:http://hotvdev.chambermaster.com/events/details/dream-big-gala-10-05-2023-4162
END:VEVENT

END:VCALENDAR
